BEGIN:VCALENDAR
VERSION:2.0
PRODID:-//Buena Vista Recreation Information Center - ECPv6.15.20//NONSGML v1.0//EN
CALSCALE:GREGORIAN
METHOD:PUBLISH
X-WR-CALNAME:Buena Vista Recreation Information Center
X-ORIGINAL-URL:https://www.buenavistarec.com
X-WR-CALDESC:Events for Buena Vista Recreation Information Center
REFRESH-INTERVAL;VALUE=DURATION:PT1H
X-Robots-Tag:noindex
X-PUBLISHED-TTL:PT1H
BEGIN:VTIMEZONE
TZID:America/Denver
BEGIN:DAYLIGHT
TZOFFSETFROM:-0700
TZOFFSETTO:-0600
TZNAME:MDT
DTSTART:20230312T090000
END:DAYLIGHT
BEGIN:STANDARD
TZOFFSETFROM:-0600
TZOFFSETTO:-0700
TZNAME:MST
DTSTART:20231105T080000
END:STANDARD
BEGIN:DAYLIGHT
TZOFFSETFROM:-0700
TZOFFSETTO:-0600
TZNAME:MDT
DTSTART:20240310T090000
END:DAYLIGHT
BEGIN:STANDARD
TZOFFSETFROM:-0600
TZOFFSETTO:-0700
TZNAME:MST
DTSTART:20241103T080000
END:STANDARD
BEGIN:DAYLIGHT
TZOFFSETFROM:-0700
TZOFFSETTO:-0600
TZNAME:MDT
DTSTART:20250309T090000
END:DAYLIGHT
BEGIN:STANDARD
TZOFFSETFROM:-0600
TZOFFSETTO:-0700
TZNAME:MST
DTSTART:20251102T080000
END:STANDARD
END:VTIMEZONE
BEGIN:VEVENT
DTSTART;TZID=America/Denver:20241104T190000
DTEND;TZID=America/Denver:20241104T203000
DTSTAMP:20260421T111235
CREATED:20240927T151639Z
LAST-MODIFIED:20241001T160542Z
UID:10005920-1730746800-1730752200@www.buenavistarec.com
SUMMARY:Women's 4-on-4 Basketball League - Fall 2024
DESCRIPTION:Women’s 4-on-4 Basketball League – Ages: 16+   $25/participant   Mondays\, 7:00-8:30pm    November 4-December 16   Darren Patterson Christian Academy \nTeam Registration Deadline: Thursday\, October 24  *Late team fee of $50 will be applied after this date.* \nNEW THIS YEAR!! Register your team for BV Rec’s Women’s 4-on-4 Basketball League! This is a half-court\, recreational league. Standings will NOT be kept\, and there is no postseason. Teams are guaranteed a minimum of 7 games. Teams will play best 2 of 3 games to 25 (by 2’s and 3’s) against a scheduled opponent each week. Players will call their own fouls. \n* 8 teams maximum\, so please register early! * \n* Minimum of 4 teams needed to operate this league. * \n\n \n\nClick Here to Register a Player Online!\nClick Here to Register a Team Online!
URL:https://www.buenavistarec.com/program/womens-4-on-4-basketball-league-fall-2024/2024-11-04/
LOCATION:Darren Patterson Christian Academy\, 518 S San Juan Ave\, Buena Vista\, CO\, 81211\, United States
CATEGORIES:Adult,Fall,Sports & Athletics
ATTACH;FMTTYPE=image/jpeg:https://www.buenavistarec.com/wp-content/uploads/2023/09/generic-basketball-shot.jpg
ORGANIZER;CN="BV Rec":MAILTO:programs@buenavistaco.gov
GEO:38.8356021;-106.1334065
X-APPLE-STRUCTURED-LOCATION;VALUE=URI;X-ADDRESS=Darren Patterson Christian Academy 518 S San Juan Ave Buena Vista CO 81211 United States;X-APPLE-RADIUS=500;X-TITLE=518 S San Juan Ave:geo:-106.1334065,38.8356021
END:VEVENT
END:VCALENDAR